BEGIN:VCALENDAR
VERSION:2.0
PRODID:-//HWD Dev - ECPv6.15.20//NONSGML v1.0//EN
CALSCALE:GREGORIAN
METHOD:PUBLISH
X-WR-CALNAME:HWD Dev
X-ORIGINAL-URL:https://dev.hikingwithdean.com
X-WR-CALDESC:Events for HWD Dev
REFRESH-INTERVAL;VALUE=DURATION:PT1H
X-Robots-Tag:noindex
X-PUBLISHED-TTL:PT1H
BEGIN:VTIMEZONE
TZID:America/Los_Angeles
BEGIN:DAYLIGHT
TZOFFSETFROM:-0800
TZOFFSETTO:-0700
TZNAME:PDT
DTSTART:20250309T100000
END:DAYLIGHT
BEGIN:STANDARD
TZOFFSETFROM:-0700
TZOFFSETTO:-0800
TZNAME:PST
DTSTART:20251102T090000
END:STANDARD
BEGIN:DAYLIGHT
TZOFFSETFROM:-0800
TZOFFSETTO:-0700
TZNAME:PDT
DTSTART:20260308T100000
END:DAYLIGHT
BEGIN:STANDARD
TZOFFSETFROM:-0700
TZOFFSETTO:-0800
TZNAME:PST
DTSTART:20261101T090000
END:STANDARD
BEGIN:DAYLIGHT
TZOFFSETFROM:-0800
TZOFFSETTO:-0700
TZNAME:PDT
DTSTART:20270314T100000
END:DAYLIGHT
BEGIN:STANDARD
TZOFFSETFROM:-0700
TZOFFSETTO:-0800
TZNAME:PST
DTSTART:20271107T090000
END:STANDARD
END:VTIMEZONE
BEGIN:VEVENT
DTSTART;TZID=America/Los_Angeles:20260224T090000
DTEND;TZID=America/Los_Angeles:20260224T114500
DTSTAMP:20260419T223624
CREATED:20260222T000959Z
LAST-MODIFIED:20260222T000959Z
UID:121303-1771923600-1771933500@dev.hikingwithdean.com
SUMMARY:8 mile ~ Encinal Canyon to Top of the World ~ Intermediate Hike
DESCRIPTION:Encinal Canyon is named for encina\, the Spanish word for the holm oak\, a lovely Mediterranean tree with holly characteristics. Holm oaks are one of the main trees used to establish truffle orchards\, but we’ll be nosing around the canyon strictly for its beauty. \nThe trail from Encinal is a smooth\, firm\, and well-traveled single track\, swooping and winding with a constant\, gentle slope. We’ll have fabulous views of the coast for much of the way. Close to the top\, we’ll take on the slightly steeper Etz Meloy Motorway\, then the last tenth of a mile is up a seldom-used trail to the isolated peak\, where we’ll both lose and catch our breath with a 360-degree view. \nFrom our perch above it all we’ll see Sandstone Peak to the west\, Simi Valley to the north\, Ladyface and Mt Baldy to the east and the Channel Islands to the south and west. \nThis is a 8 mile out and back hike\, with about 1200′ of elevation gain. \nNOTE: Please review the guidelines to participate in our hikes. Here are some highlights and a link to the guidelines:\nhttps://www.meetup.com/The-Weekday-Trailblazers/about/\nRestrictions apply for your safety and ours:\nDon’t show up unless you’re on the “Attending” list\nNo “Plus Ones” on this hike\nPlan on completing the entire hike at an intermediate pace or please find an alternative hike that better suits your hiking level.\nNo dogs allowed. \nDirections: \nThe parking area is off the north side of Encinal Canyon Road\, almost directly across the street from the Camp 13 fire station & Rattle Snake Road. Park in the large dirt lot\, which is free. \nFrom the 101 Freeway\, turn south on Kanan Rd. Continue 6.2 miles\, then turn right onto Mulholland Hwy. After 0.9 miles\, veer left onto Encinal Canyon Rd. Drive 2.4 miles to the parking area\, on the right. \nFrom the Pacific Coast Highway – From the PCH\, turn up Encinal Canyon Road. Drive 5 miles\, then turn right onto Encinal Cyn Rd. Continue 1.1 miles to the parking area\, on the left. \nDISCLAIMER / RELEASE OF LIABILITY \nThe hike host is a volunteer and not responsible for the group. Safety should be a priority for everyone in the group. Please treat this meet-up as hiking with a group of friends. If you become fatigued and unable to continue the hike\, it is expected you will advise the hike host of this and return to our starting point on your own. If you are able to proceed\, it is expected that you will maintain line of sight with other members of the group at all times and help to promote the group’s safety and fitness goals. \nOutdoor sports and other events we plan can be inherently dangerous and accidents may happen. By participating in any posted event\, you are taking responsibility for your own safety and well-being. The Weekday Trailblazers Meetup Group and its organizers are not trained leaders and we do not confirm the qualifications of any of its members to lead or participate in trips. All participants take full responsibility for their own actions. \nIf you choose to sign up for this or any Weekday Trailblazers Meetup event\, you are releasing the Weekday Trailblazers Meetup Group\, its organizers\, and sponsors from all liability in case of possible injuries. Your personal safety depends on your own judgment and experience. \nNo “Plus Ones” on this hike; please have your friends join The Weekday Trailblazers\, and register for the event. \nSorry\, dogs are not allowed on State Park trails. \nAll participants must be 18 or older\, or accompanied by a parent or legal guardian.
URL:https://dev.hikingwithdean.com/event/8-mile-encinal-canyon-to-top-of-the-world-intermediate-hike/
LOCATION:Encinal Canyon Road Backbone Trail\, 1097 Encinal Canyon Road\, malibu\, CA\, 90265\, US
CATEGORIES:The Weekday Trailblazers
ATTACH;FMTTYPE=image/jpeg:https://hwdmedia.s3.us-west-1.amazonaws.com/wp-content/uploads/2026/02/21161100/121303_image_highres_470634046.jpeg
ORGANIZER;CN="The Weekday Trailblazers":MAILTO:The-Weekday-Trailblazers-announce@messages.meetup.com
GEO:34.085074;-118.8623117
X-APPLE-STRUCTURED-LOCATION;VALUE=URI;X-ADDRESS=Encinal Canyon Road Backbone Trail 1097 Encinal Canyon Road malibu CA 90265 US;X-APPLE-RADIUS=500;X-TITLE=1097 Encinal Canyon Road:geo:-118.8623117,34.085074
END:VEVENT
END:VCALENDAR