BEGIN:VCALENDAR
VERSION:2.0
PRODID:-//HWD Dev - ECPv6.15.20//NONSGML v1.0//EN
CALSCALE:GREGORIAN
METHOD:PUBLISH
X-WR-CALNAME:HWD Dev
X-ORIGINAL-URL:https://dev.hikingwithdean.com
X-WR-CALDESC:Events for HWD Dev
REFRESH-INTERVAL;VALUE=DURATION:PT1H
X-Robots-Tag:noindex
X-PUBLISHED-TTL:PT1H
BEGIN:VTIMEZONE
TZID:America/Los_Angeles
BEGIN:DAYLIGHT
TZOFFSETFROM:-0800
TZOFFSETTO:-0700
TZNAME:PDT
DTSTART:20250309T100000
END:DAYLIGHT
BEGIN:STANDARD
TZOFFSETFROM:-0700
TZOFFSETTO:-0800
TZNAME:PST
DTSTART:20251102T090000
END:STANDARD
BEGIN:DAYLIGHT
TZOFFSETFROM:-0800
TZOFFSETTO:-0700
TZNAME:PDT
DTSTART:20260308T100000
END:DAYLIGHT
BEGIN:STANDARD
TZOFFSETFROM:-0700
TZOFFSETTO:-0800
TZNAME:PST
DTSTART:20261101T090000
END:STANDARD
BEGIN:DAYLIGHT
TZOFFSETFROM:-0800
TZOFFSETTO:-0700
TZNAME:PDT
DTSTART:20270314T100000
END:DAYLIGHT
BEGIN:STANDARD
TZOFFSETFROM:-0700
TZOFFSETTO:-0800
TZNAME:PST
DTSTART:20271107T090000
END:STANDARD
END:VTIMEZONE
BEGIN:VEVENT
DTSTART;TZID=America/Los_Angeles:20260222T100000
DTEND;TZID=America/Los_Angeles:20260222T130000
DTSTAMP:20260421T221000
CREATED:20260219T202514Z
LAST-MODIFIED:20260219T202514Z
UID:121025-1771754400-1771765200@dev.hikingwithdean.com
SUMMARY:Anza Trail Hike Through Carpinteria
DESCRIPTION:Join the Trails Council for a five-mile living heritage trail hike from Rincon Beach County Park to Santa Claus Lane on February 22\, 2026.\nWalk in the footsteps of history as you follow ancient Chumash trading routes later traveled by the Anza expedition. In 1775–1776\, Juan Bautista de Anza led 240 migrants—including families with women and children—northward toward the San Francisco Bay Area and camped near present-day Rincon Point at a site known to the expedition as La Rinconada\, in proximity to the established Chumash village of Mishopshnow\, within an area the expedition referred to as La Carpintería; a journey now observed as a National Historic Trail. \nThe Anza expedition arrived at Rincon Point on February 24\, 1776—almost exactly 250 years before this commemorative hike. Father Pedro Font’s diary brings the scene to life: a stunning coastal landscape\, whale spouts rising offshore\, and the remarkable Chumash people whose masterful craftsmanship\, maritime prowess\, and vibrant community left him awestruck. \nWe will meet at Rincon Beach County Park at 10 am and walk five miles to Santa Claus Lane\, arriving at about 1 pm. The route will generally be flat\, but it includes a steep section. Participants will need to arrange their own shuttle by leaving a car near the destination and driving another to the starting point at Rincon Beach County Park. Carpooling is encouraged.
URL:https://dev.hikingwithdean.com/event/anza-trail-hike-through-carpinteria/
LOCATION:Rincon Beach County Park\, Via Real\, Carpinteria\, CA\, 93013\, United States
CATEGORIES:Community Leader
ATTACH;FMTTYPE=image/jpeg:https://hwdmedia.s3.us-west-1.amazonaws.com/wp-content/uploads/2026/02/19122654/121025_image_highres_532580922.jpeg
ORGANIZER;CN="SB County Hikers":MAILTO:SantaBarbaraCountyHikers-announce@messages.meetup.com
GEO:34.3892505;-119.4983782
X-APPLE-STRUCTURED-LOCATION;VALUE=URI;X-ADDRESS=Rincon Beach County Park Via Real Carpinteria CA 93013 United States;X-APPLE-RADIUS=500;X-TITLE=Via Real:geo:-119.4983782,34.3892505
END:VEVENT
END:VCALENDAR