BEGIN:VCALENDAR
VERSION:2.0
PRODID:-//HWD Dev - ECPv6.15.20//NONSGML v1.0//EN
CALSCALE:GREGORIAN
METHOD:PUBLISH
X-WR-CALNAME:HWD Dev
X-ORIGINAL-URL:https://dev.hikingwithdean.com
X-WR-CALDESC:Events for HWD Dev
REFRESH-INTERVAL;VALUE=DURATION:PT1H
X-Robots-Tag:noindex
X-PUBLISHED-TTL:PT1H
BEGIN:VTIMEZONE
TZID:America/Los_Angeles
BEGIN:DAYLIGHT
TZOFFSETFROM:-0800
TZOFFSETTO:-0700
TZNAME:PDT
DTSTART:20250309T100000
END:DAYLIGHT
BEGIN:STANDARD
TZOFFSETFROM:-0700
TZOFFSETTO:-0800
TZNAME:PST
DTSTART:20251102T090000
END:STANDARD
BEGIN:DAYLIGHT
TZOFFSETFROM:-0800
TZOFFSETTO:-0700
TZNAME:PDT
DTSTART:20260308T100000
END:DAYLIGHT
BEGIN:STANDARD
TZOFFSETFROM:-0700
TZOFFSETTO:-0800
TZNAME:PST
DTSTART:20261101T090000
END:STANDARD
BEGIN:DAYLIGHT
TZOFFSETFROM:-0800
TZOFFSETTO:-0700
TZNAME:PDT
DTSTART:20270314T100000
END:DAYLIGHT
BEGIN:STANDARD
TZOFFSETFROM:-0700
TZOFFSETTO:-0800
TZNAME:PST
DTSTART:20271107T090000
END:STANDARD
END:VTIMEZONE
BEGIN:VEVENT
DTSTART;TZID=America/Los_Angeles:20260221T090000
DTEND;TZID=America/Los_Angeles:20260221T140000
DTSTAMP:20260423T172148
CREATED:20260219T202444Z
LAST-MODIFIED:20260219T202444Z
UID:121011-1771664400-1771682400@dev.hikingwithdean.com
SUMMARY:Chinese New Year Bicycle Ride from North Hollywood to Chinatown
DESCRIPTION:Join us for a bicycle ride this morning from North Hollywood Metro Station to Chinatown for Chinese New Year. We will depart at 9:00AM. \n\nQUALIFICATIONS: \nThis bicycle ride is 31 miles roundtrip from North Hollywood to Chinatown\, but you can ride your bike one way and take the Metro back if you want a shorter 15.5 mile bike ride. \nThe route is on mostly flat terrain on the LA River Bike Path with a few rolling hills and underpasses on roads in Griffith Park. \nWe will be riding at a speed of 12 to 15 miles per hour. \nYou must wear a bicycle helmet and be at least 18 years old to ride with our group. \n\nMEETING LOCATION: \nMeet us at the plaza above the escalators to the Metro station on the east side of Lankershim Blvd at: \nNorth Hollywood Metro Station\n5391 Lankershim Blvd. at Chandler Blvd.\nNorth Hollywood\, CA 91601 \n\nMEETING TIME: \nMeet at 8:45AM to introduce yourself. We’ll go over the ride plan and have a safety talk. \nWE WILL DEPART AT 9:00AM. \n\nBIKE ROUTE MAPS: \nHere is a link to the Google Map for the bike ride from North Hollywood Metro Station to Chinatown (15.5 miles): https://goo.gl/maps/EhDg4awdYsB4hoao8 \nHere is a link to the Google Map for the bike ride from Chinatown back to the North Hollywood Metro Station (15.5 miles): https://goo.gl/maps/5F6FipRVfLrVEBBn7 \n*** \nWe will stop for lunch at a restaurant in Chinatown. \n\nWHAT TO BRING: \n\nBring 2 spare tubes and a small pump or CO2 cartridges\, levers and a patch kit in case of a flat tire.\nMake sure your bicycle is in good working condition with tires properly inflated and bike chain lubricated prior to the ride.\nBring food such as power bars to eat and water to drink.\nWear sunscreen to prevent a sunburn. Also bring a first aid kit.\nBring a bike lock. Do not leave your bike unattended at the North Hollywood Metro Station.\nBring your cell phone.\nBring a TAP card if you plan to return on the Metro or you can buy one at the station.\nBring cash for lunch.\n\nSafety is always our first concern. Use standard hand signals for group rides and obey all traffic stops and signals. \n*** \nWAIVER OF LIABILITY: \nPlease read this important disclaimer: This Meetup group\, it’s organizers and members take no responsibility for any injuries nor accidents that may occur during events. By joining this ride you take full responsibility for your own safety. Please ensure that you are in good health before participating and understand that there is risk involved in your participation. This Meetup group does not certify the qualifications of any of it’s organizers or trip leaders\, and they are not responsible for your safety. We are all just participants. \n*** \nThis event is crossposted in other Meetup groups.
URL:https://dev.hikingwithdean.com/event/chinese-new-year-bicycle-ride-from-north-hollywood-to-chinatown/
LOCATION:North Hollywood Metro Station\, Lankershim Boulevard 5375\, Los Angeles\, CA\, 91601\, United States
CATEGORIES:SoCal eBike Riders
ATTACH;FMTTYPE=image/jpeg:https://hwdmedia.s3.us-west-1.amazonaws.com/wp-content/uploads/2026/02/19122638/121011_image_highres_526057450.jpeg
ORGANIZER;CN="Los Angeles Bike Rides &amp%3B Beyond":MAILTO:meetup-group-ekpzslsy-announce@messages.meetup.com
GEO:34.1686149;-118.3771518
X-APPLE-STRUCTURED-LOCATION;VALUE=URI;X-ADDRESS=DESCRIPTION:Join us for a bicycle ride this morning from North Hollywood Metro Station to Chinatown for Chinese New Year. We will depart at 9:00AM. \n\nQUALIFICATIONS: \nThis bicycle ride is 31 miles roundtrip from North Hollywood to Chinatown but you can ride your bike one way and take the Metro back if you want a shorter 15.5 mile bike ride. \nThe route is on mostly flat terrain on the LA River Bike Path with a few rolling hills and underpasses on roads in Griffith Park. \nWe will be riding at a speed of 12 to 15 miles per hour. \nYou must wear a bicycle helmet and be at least 18 years old to ride with our group. \n\nMEETING  \nMeet us at the plaza above the escalators to the Metro station on the east side of Lankershim Blvd at: \nNorth Hollywood Metro Station\n5391 Lankershim Blvd. at Chandler Blvd.\nNorth Hollywood CA 91601 \n\nMEETING TIME: \nMeet at 8:45AM to introduce yourself. We’ll go over the ride plan and have a safety talk. \nWE WILL DEPART AT 9:00AM. \n\nBIKE ROUTE MAPS: \nHere is a link to the Google Map for the bike ride from North Hollywood Metro Station to Chinatown (15.5 miles): https://goo.gl/maps/EhDg4awdYsB4hoao8 \nHere is a link to the Google Map for the bike ride from Chinatown back to the North Hollywood Metro Station (15.5 miles): https://goo.gl/maps/5F6FipRVfLrVEBBn7 \n*** \nWe will stop for lunch at a restaurant in Chinatown. \n\nWHAT TO BRING: \n\nBring 2 spare tubes and a small pump or CO2 cartridges levers and a patch kit in case of a flat tire.\nMake sure your bicycle is in good working condition with tires properly inflated and bike chain lubricated prior to the ride.\nBring food such as power bars to eat and water to drink.\nWear sunscreen to prevent a sunburn. Also bring a first aid kit.\nBring a bike lock. Do not leave your bike unattended at the North Hollywood Metro Station.\nBring your cell phone.\nBring a TAP card if you plan to return on the Metro or you can buy one at the station.\nBring cash for lunch.\n\nSafety is always our first concern. Use standard hand signals for group rides and obey all traffic stops and signals. \n*** \nWAIVER OF LIABILITY: \nPlease read this important disclaimer: This Meetup group it’s organizers and members take no responsibility for any injuries nor accidents that may occur during events. By joining this ride you take full responsibility for your own safety. Please ensure that you are in good health before participating and understand that there is risk involved in your participation. This Meetup group does not certify the qualifications of any of it’s organizers or trip leaders and they are not responsible for your safety. We are all just participants. \n*** \nThis event is crossposted in other Meetup groups.;X-APPLE-RADIUS=500;X-TITLE=Lankershim Boulevard 5375:geo:-118.3771518,34.1686149
END:VEVENT
END:VCALENDAR