BEGIN:VCALENDAR
VERSION:2.0
PRODID:-//HWD Dev - ECPv6.15.20//NONSGML v1.0//EN
CALSCALE:GREGORIAN
METHOD:PUBLISH
X-WR-CALNAME:HWD Dev
X-ORIGINAL-URL:https://dev.hikingwithdean.com
X-WR-CALDESC:Events for HWD Dev
REFRESH-INTERVAL;VALUE=DURATION:PT1H
X-Robots-Tag:noindex
X-PUBLISHED-TTL:PT1H
BEGIN:VTIMEZONE
TZID:America/Los_Angeles
BEGIN:DAYLIGHT
TZOFFSETFROM:-0800
TZOFFSETTO:-0700
TZNAME:PDT
DTSTART:20240310T100000
END:DAYLIGHT
BEGIN:STANDARD
TZOFFSETFROM:-0700
TZOFFSETTO:-0800
TZNAME:PST
DTSTART:20241103T090000
END:STANDARD
BEGIN:DAYLIGHT
TZOFFSETFROM:-0800
TZOFFSETTO:-0700
TZNAME:PDT
DTSTART:20250309T100000
END:DAYLIGHT
BEGIN:STANDARD
TZOFFSETFROM:-0700
TZOFFSETTO:-0800
TZNAME:PST
DTSTART:20251102T090000
END:STANDARD
BEGIN:DAYLIGHT
TZOFFSETFROM:-0800
TZOFFSETTO:-0700
TZNAME:PDT
DTSTART:20260308T100000
END:DAYLIGHT
BEGIN:STANDARD
TZOFFSETFROM:-0700
TZOFFSETTO:-0800
TZNAME:PST
DTSTART:20261101T090000
END:STANDARD
END:VTIMEZONE
BEGIN:VEVENT
DTSTART;TZID=America/Los_Angeles:20251204T180000
DTEND;TZID=America/Los_Angeles:20251204T213000
DTSTAMP:20260421T203535
CREATED:20251127T164644Z
LAST-MODIFIED:20251127T164644Z
UID:120038-1764871200-1764883800@dev.hikingwithdean.com
SUMMARY:Chivo Tar Pits lollipop - Easy Intermediate with beginner option
DESCRIPTION:4.75 miles\, 700′ gain\, easy-intermediate\nOption for 3 miles\, 300′ gain\, easy. \nThis is a link to the route: LINK \nWe start with a 1/4 mile walk from where we park along Cottonwood Dr\, to the trail head. There we make a left and take a relatively flat section and hike for about 3/4 mile. We’ll come to the same tar pits as the Tapo Canyon tar pit hike\, and then continue for another 300 feet to a fire road. \nWe’ll turn left and after about 300′\, we arrive at a trail junction\, which is our social event area. \nEasier Option: Those taking the easier option will wait there for 30-45 minutes for the rest to arrive back. They also have the option to turn left and start walking up the hill\, turning around to return at any time\, or turning back when they run into the fastest people taking the regular route making their way back down. \nRegular Option: Those taking the regular route will make a gradual climb for 1 mile and about 450′ of incline. At the top\, continue straight and around to the left\, down for 3/4 mile\, arriving back at the social event area for 30-60 minutes. \nPlease bring food and drink to share. \nNext we’ll turn back and head the way we came down a mostly flat section for about a mile until we arrive back at the trail head. Then another 1/4 mile walk along Cottonwood Drive back to our cars. \nThere is a map of the route posted with this event. \nDirections:\n5079 Westwood St.\nSimi Valley\, CA 93063\nPark on the street. \nThe Hike:\nDistance: 4.75 miles\, option for 3 miles.\nElevation Gain: 700′\, option for 300′.\nDifficulty: Easy Intermediate with beginner option.\nPace: 2.0 mph\nDogs: Yes.\nRestrooms: No.\nDrinking Fountains: No\nParking: Free\, along the neighborhood streets.\nTrail: Single Track\, Double Track\, and fire road.\nPurpose: Social \nWhat to Bring:\n1-2 liters of water.\nSnacks and/or beverages to share\nHiking shoes preferred\, but athletic shoes will be OK.\nFlashlight or headlamp. The last 30 minutes may get dark. \nFAQ\nHiking Plus Page Links\nDisclaimer / Release of Liability
URL:https://dev.hikingwithdean.com/event/chivo-tar-pits-lollipop-easy-intermediate-with-beginner-option/
LOCATION:5079 Westwood St\, Westwood Street 5079\, Simi Valley\, CA\, 93063\, United States
CATEGORIES:Hiking Plus
ATTACH;FMTTYPE=image/jpeg:https://dev.hikingwithdean.com/wp-content/uploads/2025/11/120038_image_highres_498350705-scaled.jpeg
ORGANIZER;CN="Hiking Plus":MAILTO:meetup-group-FRgxgAAf-announce@messages.meetup.com
GEO:34.3023867;-118.6942847
X-APPLE-STRUCTURED-LOCATION;VALUE=URI;X-ADDRESS=5079 Westwood St Westwood Street 5079 Simi Valley CA 93063 United States;X-APPLE-RADIUS=500;X-TITLE=Westwood Street 5079:geo:-118.6942847,34.3023867
END:VEVENT
END:VCALENDAR