BEGIN:VCALENDAR
VERSION:2.0
PRODID:-//HWD Dev - ECPv6.15.20//NONSGML v1.0//EN
CALSCALE:GREGORIAN
METHOD:PUBLISH
X-WR-CALNAME:HWD Dev
X-ORIGINAL-URL:https://dev.hikingwithdean.com
X-WR-CALDESC:Events for HWD Dev
REFRESH-INTERVAL;VALUE=DURATION:PT1H
X-Robots-Tag:noindex
X-PUBLISHED-TTL:PT1H
BEGIN:VTIMEZONE
TZID:America/Los_Angeles
BEGIN:DAYLIGHT
TZOFFSETFROM:-0800
TZOFFSETTO:-0700
TZNAME:PDT
DTSTART:20250309T100000
END:DAYLIGHT
BEGIN:STANDARD
TZOFFSETFROM:-0700
TZOFFSETTO:-0800
TZNAME:PST
DTSTART:20251102T090000
END:STANDARD
BEGIN:DAYLIGHT
TZOFFSETFROM:-0800
TZOFFSETTO:-0700
TZNAME:PDT
DTSTART:20260308T100000
END:DAYLIGHT
BEGIN:STANDARD
TZOFFSETFROM:-0700
TZOFFSETTO:-0800
TZNAME:PST
DTSTART:20261101T090000
END:STANDARD
BEGIN:DAYLIGHT
TZOFFSETFROM:-0800
TZOFFSETTO:-0700
TZNAME:PDT
DTSTART:20270314T100000
END:DAYLIGHT
BEGIN:STANDARD
TZOFFSETFROM:-0700
TZOFFSETTO:-0800
TZNAME:PST
DTSTART:20271107T090000
END:STANDARD
END:VTIMEZONE
BEGIN:VEVENT
DTSTART;TZID=America/Los_Angeles:20260225T163000
DTEND;TZID=America/Los_Angeles:20260225T183000
DTSTAMP:20260422T101154
CREATED:20260222T000959Z
LAST-MODIFIED:20260222T000959Z
UID:121305-1772037000-1772044200@dev.hikingwithdean.com
SUMMARY:Doin' the Big\, Fig Newton Canyon OAB
DESCRIPTION:http://photos1.meetupstatic.com/photos/event/b/a/2/4/event_99467652.jpeg \nThe waterfall should be flowing. \nPlease bring a flashlight or headlamp as we may return in the dark. \nFrom the Kanan Rd trailhead\, we’ll jump on the Backbone Trail for a cruise down into Newton Canyon. On our way there\, we’ll cross the creek\, pass under an oak canopy\, and come out into an opening. At the opening\, look toward the sandstone formations in the distance\, and we may see a flow of water from Upper Newton Falls. \nhttp://photos4.meetupstatic.com/photos/event/b/9/8/e/event_99467502.jpeg \nWe may stop when we hit the fire road for a short break or continue until the trailhead and then return. This is an out and back hike for a total of 5 or 6 miles with about 1000+’ total elevation gain. \nhttps://www.meetup.com/The-Weekday-Trailblazers/about/\nRestrictions apply for your safety and ours: \nDon’t show up unless you’re on the “Attending” list\nUnregistered or waitlisted will be turned away\nNo “Plus Ones” on this hike\nPlan on completing the entire hike or please find an alternative hike that better suits your hiking level.\nNo dogs allowed. \nDirections: \nExit 101\, then go south (toward beaches) on Kanan Road about 8 miles to just before the third tunnel (T1). The parking lot is on the right. \nFrom Pacific Coast Highway\, go north on Kanan Dume Road about 4 miles and make a left turn into the parking lot immediately after going through the first tunnel. \nParking is free. \nBring sunscreen\, plenty of water\, and wear sturdy shoes and a sun hat. Please consider bringing the 10 essentials (https://bit.ly/1vB2Avz)..) \nDISCLAIMER / RELEASE OF LIABILITY \nIMPORTANT\, PLEASE READ BELOW IN ITS ENTIRETY: \nThe hike host is a volunteer and not responsible for the group. Safety should be a priority for everyone in the group. Please treat this meet-up as hiking with a group of friends. If you become fatigued and unable to continue the hike\, it is expected you will advise the hike host of this and return to our starting point on your own. If you are able to proceed\, it is expected that you will maintain line of sight with other members of the group at all times and help to promote the group’s safety and fitness goals. \nOutdoor sports and other events we plan can be inherently dangerous and accidents may happen. By participating in any posted event\, you are taking responsibility for your own safety and well-being. The Weekday Trailblazers Meetup Group and its organizers are not trained leaders and we do not confirm the qualifications of any of its members to lead or participate in trips. All participants take full responsibility for their own actions. \nIf you choose to sign up for this or any Weekday Trailblazers Meetup event\, you are releasing the Weekday Trailblazers Meetup Group and its organizers from all liability in case of possible injuries. Your personal safety depends on your own judgment and experience. \nAll participants must be 18 or older\, or accompanied by a parent or legal guardian. \nHope you can join me. \nLinda L.\n818-523-8719
URL:https://dev.hikingwithdean.com/event/doin-the-big-fig-newton-canyon-oab/
LOCATION:BBT – Kanan Dume\, 1720 Kanan Dume Rd\, Malibu\, CA\, 90265\, US
CATEGORIES:The Weekday Trailblazers
ATTACH;FMTTYPE=image/jpeg:https://hwdmedia.s3.us-west-1.amazonaws.com/wp-content/uploads/2026/02/21161101/121305_image_highres_502226392.jpeg
ORGANIZER;CN="The Weekday Trailblazers":MAILTO:The-Weekday-Trailblazers-announce@messages.meetup.com
GEO:34.0729822;-118.8119768
X-APPLE-STRUCTURED-LOCATION;VALUE=URI;X-ADDRESS=BBT – Kanan Dume 1720 Kanan Dume Rd Malibu CA 90265 US;X-APPLE-RADIUS=500;X-TITLE=1720 Kanan Dume Rd:geo:-118.8119768,34.0729822
END:VEVENT
END:VCALENDAR