BEGIN:VCALENDAR
VERSION:2.0
PRODID:-//HWD Dev - ECPv6.15.20//NONSGML v1.0//EN
CALSCALE:GREGORIAN
METHOD:PUBLISH
X-WR-CALNAME:HWD Dev
X-ORIGINAL-URL:https://dev.hikingwithdean.com
X-WR-CALDESC:Events for HWD Dev
REFRESH-INTERVAL;VALUE=DURATION:PT1H
X-Robots-Tag:noindex
X-PUBLISHED-TTL:PT1H
BEGIN:VTIMEZONE
TZID:America/Los_Angeles
BEGIN:DAYLIGHT
TZOFFSETFROM:-0800
TZOFFSETTO:-0700
TZNAME:PDT
DTSTART:20250309T100000
END:DAYLIGHT
BEGIN:STANDARD
TZOFFSETFROM:-0700
TZOFFSETTO:-0800
TZNAME:PST
DTSTART:20251102T090000
END:STANDARD
BEGIN:DAYLIGHT
TZOFFSETFROM:-0800
TZOFFSETTO:-0700
TZNAME:PDT
DTSTART:20260308T100000
END:DAYLIGHT
BEGIN:STANDARD
TZOFFSETFROM:-0700
TZOFFSETTO:-0800
TZNAME:PST
DTSTART:20261101T090000
END:STANDARD
BEGIN:DAYLIGHT
TZOFFSETFROM:-0800
TZOFFSETTO:-0700
TZNAME:PDT
DTSTART:20270314T100000
END:DAYLIGHT
BEGIN:STANDARD
TZOFFSETFROM:-0700
TZOFFSETTO:-0800
TZNAME:PST
DTSTART:20271107T090000
END:STANDARD
END:VTIMEZONE
BEGIN:VEVENT
DTSTART;TZID=America/Los_Angeles:20260303T090000
DTEND;TZID=America/Los_Angeles:20260303T120000
DTSTAMP:20260421T224242
CREATED:20260226T001253Z
LAST-MODIFIED:20260226T001253Z
UID:121828-1772528400-1772539200@dev.hikingwithdean.com
SUMMARY:Rancho Sierra Vista Hidden Pond Hike - Intermediate Hike - 9:00 AM Start
DESCRIPTION:We will meet near the bathrooms in the parking lot. We will hike down Sycamore Canyon and then take Ranch Center Road to the Hidden Pond trail. From there\, we will take Hidden Pond trail and hopefully we will see a little water in the pond. After stopping at the pond for a brief break we will return to the cars. We will take Ranch Center Road to Sycamore Canyon Road and (unfortunately) up the asphalt to Satwiwa\, the RSV parking lot\, and our cars. \nThis out and back hike will be 7.5 miles with 1300 feet of elevation gain. \nFrom Steve J’s January\, 2019 hike description:\nLocal ranching history in the western Santa Monica Mountains (https://en.wikipedia.org/wiki/Santa_Monica_Mountains) began in 1803 when former soldiers Jose Polanco and Ignacio Rodriquez were granted Rancho El Conejo (https://en.wikipedia.org/wiki/Rancho_El_Conejo) by the King of Spain. \nHidden Pond in Dry Times:\nTen years before the Danielsons appeared on the scene\, wealthy petroleum geologist Carl Beal purchased the northern section of the old rancho in 1936 and christened the area Rancho Sierra Vista. Beal explored the ranch for water and developed a system of dams\, wells\, springs\, and reservoirs that provided the water for a variety of agricultural products and horses. He was the person responsible for building 25 miles of roads and 18 wells feeding the 14 miles of steel pipe that is seen alongside today’s trails. \nHidden Pond was used store water for the staff and livestock of the ranch. The network of pipes leads up to the pond from the house and other areas in Point Mugu State Park and SMMNRA. The pond is at a high point in the hills\, providing gravity-fed water to outlying areas\, but requiring that water be pumped uphill to the pond during wetter times. The ruins of the pumps and other equipment can be seen nearby at the ranch ruins at the west end of Ranch Center Road. \nNOTE: Please review the guidelines to participate in our hikes. Here are some highlights and a link to the guidelines:\nhttps://www.meetup.com/The-Weekday-Trailblazers/about/\nRestrictions apply for your safety and ours:\nDon’t show up unless you’re on the “Attending” list\nNo “Plus Ones” on this hike\nPlan on completing the entire hike at an intermediate pace or please find an alternative hike that better suits your hiking level.\nNo dogs allowed. \nDo NOT leave anything of value in your car\, at this or any other trailhead. \nDIRECTIONS: \nExit Ventura Fwy (101) at Lynn Road. Take Lynn Road southwest 5.25 miles to Via Goleta. Rancho Sierra Vista entrance (through the stone pillars and arch) is on the left. Drive to the end\, and park near the restroom facilities. \nDISCLAIMER / RELEASE OF LIABILITY \nIMPORTANT\, PLEASE READ BELOW IN ITS ENTIRETY: \nThe hike host is a volunteer and not responsible for the group. Safety should be a priority for everyone in the group. Please treat this meet-up as hiking with a group of friends. If you become fatigued and unable to continue the hike\, it is expected you will advise the hike host of this and return to our starting point on your own. If you are able to proceed\, it is expected that you will maintain line of sight with other members of the group at all times and help to promote the group’s safety and fitness goals. \nOutdoor sports and other events we plan can be inherently dangerous and accidents may happen. By participating in any posted event\, you are taking responsibility for your own safety and well-being. The Weekday Trailblazers Meetup Group and its organizers are not trained leaders and we do not confirm the qualifications of any of its members to lead or participate in trips. All participants take full responsibility for their own actions. \nIf you choose to sign up for this or any Weekday Trailblazers Meetup event\, you are releasing the Weekday Trailblazers Meetup Group and its organizers from all liability in case of possible injuries. Your personal safety depends on your own judgment and experience. \nAll participants must be 18 or older\, or accompanied by a parent or legal guardian. \n** Any last minute issues… Peter’s cell phone – (805)443-6174.
URL:https://dev.hikingwithdean.com/event/rancho-sierra-vista-hidden-pond-hike-intermediate-hike-900-am-start/
LOCATION:Rancho Sierra Vista\, Newbury Park\, CA\, 91320\, United States
CATEGORIES:The Weekday Trailblazers
ATTACH;FMTTYPE=image/jpeg:https://hwdmedia.s3.us-west-1.amazonaws.com/wp-content/uploads/2026/02/25161437/121828_image_highres_532919242-scaled.jpeg
ORGANIZER;CN="The Weekday Trailblazers":MAILTO:The-Weekday-Trailblazers-announce@messages.meetup.com
GEO:34.1537197;-118.9642742
END:VEVENT
END:VCALENDAR