BEGIN:VCALENDAR
VERSION:2.0
PRODID:-//HWD Dev - ECPv6.15.20//NONSGML v1.0//EN
CALSCALE:GREGORIAN
METHOD:PUBLISH
X-WR-CALNAME:HWD Dev
X-ORIGINAL-URL:https://dev.hikingwithdean.com
X-WR-CALDESC:Events for HWD Dev
REFRESH-INTERVAL;VALUE=DURATION:PT1H
X-Robots-Tag:noindex
X-PUBLISHED-TTL:PT1H
BEGIN:VTIMEZONE
TZID:America/Denver
BEGIN:DAYLIGHT
TZOFFSETFROM:-0700
TZOFFSETTO:-0600
TZNAME:MDT
DTSTART:20250309T090000
END:DAYLIGHT
BEGIN:STANDARD
TZOFFSETFROM:-0600
TZOFFSETTO:-0700
TZNAME:MST
DTSTART:20251102T080000
END:STANDARD
BEGIN:DAYLIGHT
TZOFFSETFROM:-0700
TZOFFSETTO:-0600
TZNAME:MDT
DTSTART:20260308T090000
END:DAYLIGHT
BEGIN:STANDARD
TZOFFSETFROM:-0600
TZOFFSETTO:-0700
TZNAME:MST
DTSTART:20261101T080000
END:STANDARD
BEGIN:DAYLIGHT
TZOFFSETFROM:-0700
TZOFFSETTO:-0600
TZNAME:MDT
DTSTART:20270314T090000
END:DAYLIGHT
BEGIN:STANDARD
TZOFFSETFROM:-0600
TZOFFSETTO:-0700
TZNAME:MST
DTSTART:20271107T080000
END:STANDARD
END:VTIMEZONE
BEGIN:VEVENT
DTSTART;TZID=America/Denver:20260324T090000
DTEND;TZID=America/Denver:20260324T110000
DTSTAMP:20260424T064716
CREATED:20260206T210015Z
LAST-MODIFIED:20260206T210015Z
UID:120857-1774342800-1774350000@dev.hikingwithdean.com
SUMMARY:Ray Miller Trail hike ~ Gentler Intermediate
DESCRIPTION:The trail is an awesome blend of ocean and mountain views in Malibu’s La Jolla Canyon. We will start from the trailhead which follows the canyon eastward\, away from the ocean. Then\, it quickly brings you back toward the ocean at a gradual incline. There’s a great lookout spot where it gives you a breathtaking view of the Pacific Coast Highway against the backdrop of the Pacific Ocean\, with sweeping views toward Mugu Rock on the west and Sycamore Cove on the east. After another peak\, you’ll start a slight decline that brings you to the fire road where we will turn around. Along the way\, we’ll be treated to magnificent sweeping views of La Jolla and Big Sycamore Canyons\, and of course\, the largest ocean in the world. On a clear day\, the Channel Islands are easily within sight\, although the marine layer has been pretty prominent this summer.\nThis is a 5-6 mile out and back hike with an elevation gain/loss of about 1000’. \nDirections: \nFrom Los Angeles\, take the Pacific Coast Highway (PCH) north\, 22 miles from Malibu Canyon Rd. Across the street from Thornhill Broome Beach is the entrance to La Jolla Canyon. It is very clearly marked. Turn right. \nFrom Ventura\, take PCH eastward\, and turn left 4 miles after Las Posas Road into La Jolla Canyon. \nHeads up: There is a parking fee in the lot (or free with state parking pass). There is free parking on PCH just a short walk to the trailhead. \nPlease review the guidelines (guidelines) to join our hikes.\nRestrictions apply for your safety and ours: \n\nDon’t show up unless you’re shown on the “Attending” list.\nPlan on KEEPING UP with the group and completing the entire hike at a moderate pace.\nPlease consider bringing mosquito spray as they may be present.\n\nDISCLAIMER/RELEASE OF LIABILITY – PLEASE READ IN ITS ENTIRETY\nThe hike host is a volunteer and not responsible for the group. Safety should be a priority for everyone in the group. Please treat this meet-up as hiking with a group of friends. If you become fatigued and unable to continue the hike\, it is expected you will advise the hike host of this and return to our starting point on your own. If you are able to proceed\, it is expected that you will maintain line of sight with other members of the group at all times and help to promote the group’s safety and fitness goals. \nOutdoor sports and other events we plan can be inherently dangerous and accidents may happen. By participating in any posted event\, you are taking responsibility for your own safety and well-being. The Weekday Trailblazers Meetup Group and its organizers are not trained leaders and we do not confirm the qualifications of any of its members to lead or participate in trips. All participants take full responsibility for their own actions. \nIf you choose to sign up for this or any Weekday Trailblazers Meetup event\, you are releasing the Weekday Trailblazers Meetup Group and its organizers from all liability in case of possible injuries. Your personal safety depends on your own judgment and experience.\nAll participants must be 18 or older\, or accompanied by a parent or legal guardian. No “Plus Ones” or dogs on Weekday Trailblazer hikes.
URL:https://dev.hikingwithdean.com/event/ray-miller-trail-hike-gentler-intermediate/
LOCATION:Ray Miller Trailhead\, Malibu\, CA\, 90265\, United States
CATEGORIES:The Weekday Trailblazers
ATTACH;FMTTYPE=image/jpeg:https://hwdmedia.s3.us-west-1.amazonaws.com/wp-content/uploads/2026/02/06130023/120857_image_highres_530916442-scaled.jpeg
ORGANIZER;CN="The Weekday Trailblazers":MAILTO:The-Weekday-Trailblazers-announce@messages.meetup.com
GEO:34.0615492;-118.8363756
END:VEVENT
END:VCALENDAR