BEGIN:VCALENDAR
VERSION:2.0
PRODID:-//HWD Dev - ECPv6.15.20//NONSGML v1.0//EN
CALSCALE:GREGORIAN
METHOD:PUBLISH
X-WR-CALNAME:HWD Dev
X-ORIGINAL-URL:https://dev.hikingwithdean.com
X-WR-CALDESC:Events for HWD Dev
REFRESH-INTERVAL;VALUE=DURATION:PT1H
X-Robots-Tag:noindex
X-PUBLISHED-TTL:PT1H
BEGIN:VTIMEZONE
TZID:America/Denver
BEGIN:DAYLIGHT
TZOFFSETFROM:-0700
TZOFFSETTO:-0600
TZNAME:MDT
DTSTART:20250309T090000
END:DAYLIGHT
BEGIN:STANDARD
TZOFFSETFROM:-0600
TZOFFSETTO:-0700
TZNAME:MST
DTSTART:20251102T080000
END:STANDARD
BEGIN:DAYLIGHT
TZOFFSETFROM:-0700
TZOFFSETTO:-0600
TZNAME:MDT
DTSTART:20260308T090000
END:DAYLIGHT
BEGIN:STANDARD
TZOFFSETFROM:-0600
TZOFFSETTO:-0700
TZNAME:MST
DTSTART:20261101T080000
END:STANDARD
BEGIN:DAYLIGHT
TZOFFSETFROM:-0700
TZOFFSETTO:-0600
TZNAME:MDT
DTSTART:20270314T090000
END:DAYLIGHT
BEGIN:STANDARD
TZOFFSETFROM:-0600
TZOFFSETTO:-0700
TZNAME:MST
DTSTART:20271107T080000
END:STANDARD
END:VTIMEZONE
BEGIN:VEVENT
DTSTART;TZID=America/Denver:20260310T090000
DTEND;TZID=America/Denver:20260310T113000
DTSTAMP:20260422T032251
CREATED:20260222T055217Z
LAST-MODIFIED:20260222T055217Z
UID:121420-1773133200-1773142200@dev.hikingwithdean.com
SUMMARY:Upper Stunt High Trail To Saddle Peak ~ Gentler Intermediate
DESCRIPTION:This hike begins at Upper Stunt High Trail\, a couple hundred feet to the right on the other side of the street from the parking lot. The trail winds upward gradually over switchbacks\, giving way as the trail heads up to a dramatic rocky overlook with striking views of the Pacific\, Stunt Ranch State Park\, Calabasas Peak\, and Old Topanga Canyon. There are also longer vistas northwest into Ventura County and east to the San Fernando Valley. We will see beautiful wooded areas and increasing views of the Santa Monica Mountains and Stunt Ranch State Park as we ascend. We eventually reach the Saddle Peak Trail via Backbone Trail and soon begin an easterly ridgeline walk high above the Pacific. This route will take us along and above spectacular tilted and pocketed sandstone formations\, with dramatic views of the mountains and ocean as we proceed. There will be a little rock-scambling close to the top. We will take a short break at Saddle Peak and return back the same way. \nIt is about 5 miles round-trip with 1100 feet of elevation gain. \nDirections: \nFrom the 101 – exit at the Las Virgenes Road exit and go south (toward the ocean). Drive 3 miles to Mulholland Highway and make a left turn. Continue 4 miles to Stunt Road and turn right. Go just past the 1.94 mile marker at the entrance to the UCLA Stunt Ranch Reserve\, park and meet in the asphalt pullout on the right. \nFrom the PCH – turn up Malibu Canyon Road and drive 6.5 miles to Mulholland Highway. Turn right and continue 4 miles to Stunt Road. Go just past the 1.94 mile marker at the entrance to the UCLA Stunt Ranch Reserve\, park and meet in the asphalt pullout on the right. \nDISCLAIMER/RELEASE OF LIABILITY – PLEASE READ IN ITS ENTIRETY\nReview the guidelines (link to the guidelines) to join our hikes. Restrictions apply for your safety and ours: \n\nDon’t show up unless you’re shown on the “Attending” list.\nPlan on completing the entire hike at a moderate pace.\n\nThe hike host is a volunteer and not responsible for the group. Safety should be a priority for everyone in the group. Please treat this meet-up as hiking with a group of friends. If you become fatigued and unable to continue the hike\, it is expected you will advise the hike host of this and return to our starting point on your own. If you are able to proceed\, it is expected that you will maintain line of sight with other members of the group at all times and help to promote the group’s safety and fitness goals.\nOutdoor sports and other events we plan can be inherently dangerous and accidents may happen. By participating in any posted event\, you are taking responsibility for your own safety and well-being. The Weekday Trailblazers Meetup Group and its organizers and hosts are not trained leaders and we do not confirm the qualifications of any of its members to lead or participate in trips. All participants take full responsibility for their own actions.\nIf you choose to sign up for this or any Weekday Trailblazers Meetup event\, you are releasing the Weekday Trailblazers Meetup Group\, its organizers\, and hosts from all liability in case of possible injuries. Your personal safety depends on your own judgment and experience.\nAll participants must be 18 or older\, or accompanied by a parent or legal guardian. Sorry\, we don’t allow “Plus-Ones” on our hikes. Please join the group\, then sign up for a hike.
URL:https://dev.hikingwithdean.com/event/upper-stunt-high-trail-to-saddle-peak-gentler-intermediate/
LOCATION:UCLA Stunt Ranch Reserve\, 1201 Stunt Rd\, Calabasas\, CA\, 91302\, US
CATEGORIES:The Weekday Trailblazers
ATTACH;FMTTYPE=image/jpeg:https://hwdmedia.s3.us-west-1.amazonaws.com/wp-content/uploads/2026/02/21215503/121420_image_highres_532506575.jpeg
ORGANIZER;CN="The Weekday Trailblazers":MAILTO:The-Weekday-Trailblazers-announce@messages.meetup.com
GEO:34.0936118;-118.6563887
X-APPLE-STRUCTURED-LOCATION;VALUE=URI;X-ADDRESS=UCLA Stunt Ranch Reserve 1201 Stunt Rd Calabasas CA 91302 US;X-APPLE-RADIUS=500;X-TITLE=1201 Stunt Rd:geo:-118.6563887,34.0936118
END:VEVENT
END:VCALENDAR