BEGIN:VCALENDAR
VERSION:2.0
PRODID:-//HWD Dev - ECPv6.15.20//NONSGML v1.0//EN
CALSCALE:GREGORIAN
METHOD:PUBLISH
X-WR-CALNAME:HWD Dev
X-ORIGINAL-URL:https://dev.hikingwithdean.com
X-WR-CALDESC:Events for HWD Dev
REFRESH-INTERVAL;VALUE=DURATION:PT1H
X-Robots-Tag:noindex
X-PUBLISHED-TTL:PT1H
BEGIN:VTIMEZONE
TZID:America/Los_Angeles
BEGIN:DAYLIGHT
TZOFFSETFROM:-0800
TZOFFSETTO:-0700
TZNAME:PDT
DTSTART:20250309T100000
END:DAYLIGHT
BEGIN:STANDARD
TZOFFSETFROM:-0700
TZOFFSETTO:-0800
TZNAME:PST
DTSTART:20251102T090000
END:STANDARD
BEGIN:DAYLIGHT
TZOFFSETFROM:-0800
TZOFFSETTO:-0700
TZNAME:PDT
DTSTART:20260308T100000
END:DAYLIGHT
BEGIN:STANDARD
TZOFFSETFROM:-0700
TZOFFSETTO:-0800
TZNAME:PST
DTSTART:20261101T090000
END:STANDARD
BEGIN:DAYLIGHT
TZOFFSETFROM:-0800
TZOFFSETTO:-0700
TZNAME:PDT
DTSTART:20270314T100000
END:DAYLIGHT
BEGIN:STANDARD
TZOFFSETFROM:-0700
TZOFFSETTO:-0800
TZNAME:PST
DTSTART:20271107T090000
END:STANDARD
END:VTIMEZONE
BEGIN:VEVENT
DTSTART;TZID=America/Los_Angeles:20260304T183000
DTEND;TZID=America/Los_Angeles:20260304T223000
DTSTAMP:20260425T194540
CREATED:20260221T055017Z
LAST-MODIFIED:20260221T055017Z
UID:121281-1772649000-1772663400@dev.hikingwithdean.com
SUMMARY:Wednesday Evening Hike: Montecito Multi-Trail
DESCRIPTION:This week: Montecito Multi-Trail. Parking between Wiman and San Ysidro Trailheads on E Mtn Drive OR meeting at Big 5 for carpool. This route ascends Wiman trail to the intersection of Old Pueblo trail where we turn left and head West to San Ysidro trail. We turn right and head North along San Ysidro for a bit before veering West across the creek to pick up McMenemy Trail. McMenemy traverses the hills above some of the prettiest vistas of Montecito. We’ll turn up and climb Saddle Rock trail which has some beautifully colored rocks (pictured) and lands at the photo-op friendly\, heart-shaped rock art plateau. After some refreshments we’ll continue North to the Edison Catway and turn right and head East all the way back to San Ysidro trail up by the single track. We turn right again and head South along San Ysidro back to the cars.\nDistance – 4.92 mi\nAscent – 1467ft\nWater crossings – Step over\nRock scrambling – NO\nBush whacking – NO\nMaximum Grade – >20%\nStrava Effort – 1.5x \nCarpool: Big 5 at 6:00p\nhttps://maps.app.goo.gl/pvhy5hs97EhtmwgeA \nTrailhead: Wiman Trailhead Parking\nhttps://maps.app.goo.gl/WE29UveXnP8YhfXB7 \nStrava link:\nhttps://www.strava.com/routes/3385022333874850466 \nHike Leader this week will be Kevin Hanrahan. If you plan to attend please accept on Meetup. For questions\, Kevin can be reached via text at 805-895-5655. \nAbout Wednesday Evening Hike series\nWe will meet at 6:30p at the trailhead unless otherwise noted for that week. We sometimes carpool to trails up to 45 minutes away. We attempt to vary the trails selecting amongst those that are open and in hike-worthy condition. We hike the front country\, the backside of the front range and occasionally adventure even further. Hikes are typically in the 6-9 mile range with 1500-3000 ft of total ascent. Occasionally we’ll mix in a harder hike where returns can be very late. These hikes are meant for those with some hiking experience and moderate athletic condition. The pace varies and larger groups usually split\, but we will re-group at intersections and stick together where the path is ‘iffy’. Please dress appropriately with hiking boots/shoes and comfortable clothes meant to get sweaty and possible wet. Headlamp and/or flashlight required. Bring a water resistant jacket for rain/gloom or just cold air which is frequent at altitude. We recommend 1-3L water bladder in a backpack depending upon trail difficulty so that your hands are free to cross water or scramble up/down rocks. Bug spray is a good idea as bugs are very active at dusk (better to have and not need.) Some folks bring hiking poles. I recommend long sleeves and pants to prevent scratches\, poison oak and ticks. \nWe typically stop at the top\, add a layer for warmth and enjoy a snack. This can be some of the best fun as folks drag up hot tea\, other libations\, and all sorts of baked goods to share. Yum! \nGroup organizers assume no liability; hike at your own risk. By being a member of this group\, you hereby agree to assume all risks and liability related to or resulting from any group functions. You agree that you nor any third party will hold any of the group’s leaders liable for any injury\, loss\, or damage to your own self or property arising directly or as a consequence of a group activity. You also agree that your membership of this group is based on an “at will” basis.
URL:https://dev.hikingwithdean.com/event/wednesday-evening-hike-montecito-multi-trail/
LOCATION:San Ysidro Trail\, San Ysidro Trail\, Santa Barbara\, CA\, 93108\, US
CATEGORIES:Community Leader
ATTACH;FMTTYPE=image/jpeg:https://dev.hikingwithdean.com/wp-content/uploads/2025/11/119813_image_highres_527202578.jpeg
ORGANIZER;CN="SB County Hikers":MAILTO:SantaBarbaraCountyHikers-announce@messages.meetup.com
GEO:34.4512398;-119.6218406
X-APPLE-STRUCTURED-LOCATION;VALUE=URI;X-ADDRESS=San Ysidro Trail San Ysidro Trail Santa Barbara CA 93108 US;X-APPLE-RADIUS=500;X-TITLE=San Ysidro Trail:geo:-119.6218406,34.4512398
END:VEVENT
END:VCALENDAR