BEGIN:VCALENDAR
VERSION:2.0
PRODID:-//HWD Dev - ECPv6.15.20//NONSGML v1.0//EN
CALSCALE:GREGORIAN
METHOD:PUBLISH
X-WR-CALNAME:HWD Dev
X-ORIGINAL-URL:https://dev.hikingwithdean.com
X-WR-CALDESC:Events for HWD Dev
REFRESH-INTERVAL;VALUE=DURATION:PT1H
X-Robots-Tag:noindex
X-PUBLISHED-TTL:PT1H
BEGIN:VTIMEZONE
TZID:America/Denver
BEGIN:DAYLIGHT
TZOFFSETFROM:-0700
TZOFFSETTO:-0600
TZNAME:MDT
DTSTART:20250309T090000
END:DAYLIGHT
BEGIN:STANDARD
TZOFFSETFROM:-0600
TZOFFSETTO:-0700
TZNAME:MST
DTSTART:20251102T080000
END:STANDARD
BEGIN:DAYLIGHT
TZOFFSETFROM:-0700
TZOFFSETTO:-0600
TZNAME:MDT
DTSTART:20260308T090000
END:DAYLIGHT
BEGIN:STANDARD
TZOFFSETFROM:-0600
TZOFFSETTO:-0700
TZNAME:MST
DTSTART:20261101T080000
END:STANDARD
BEGIN:DAYLIGHT
TZOFFSETFROM:-0700
TZOFFSETTO:-0600
TZNAME:MDT
DTSTART:20270314T090000
END:DAYLIGHT
BEGIN:STANDARD
TZOFFSETFROM:-0600
TZOFFSETTO:-0700
TZNAME:MST
DTSTART:20271107T080000
END:STANDARD
END:VTIMEZONE
BEGIN:VEVENT
DTSTART;TZID=America/Denver:20260509T090000
DTEND;TZID=America/Denver:20260509T120000
DTSTAMP:20260424T150426
CREATED:20260413T165006Z
LAST-MODIFIED:20260417T025213Z
UID:129697-1778317200-1778328000@dev.hikingwithdean.com
SUMMARY:West Valley Loop
DESCRIPTION:🚵I have a new eBike for sale. You can read the details here: https://magnumbikes.com/products/edge. Only 5 miles. Let me know if you are interested or want to make an offer. \nThis 35 mile loop encircles the West San Fernando Valley. We’ll be riding almost entirely on pavement/asphalt except for some short segments at Balboa Park. Established bikeways will include Metro G Line Bike Path and the Browns Creek Bike Path \nHighlights Include: \n\nChatsworth Train Station\nChatsworth Nature Preserve\nLake Manor\nOrcutt Ranch\nCalabasas Highlands\nPierce College\nLA River\nLake Balboa\n\nTotal ascent is an easy 1\,500 feet. \nI’ll post the exact route as soon as I have it finalized.
URL:https://dev.hikingwithdean.com/event/west-valley-loop/
LOCATION:Chatsworth Station\, 10040 Old Depot Plaza Road\, Chatsworth\, CA\, 91311\, US
CATEGORIES:SoCal eBike Riders
ATTACH;FMTTYPE=image/jpeg:https://hwdmedia.s3.us-west-1.amazonaws.com/wp-content/uploads/2026/04/13095115/129697_image_600_530930941.jpeg
ORGANIZER;CN="Los Angeles Bike Rides &amp%3B Beyond":MAILTO:meetup-group-ekpzslsy-announce@messages.meetup.com
GEO:34.2530116;'-118.5994635
X-APPLE-STRUCTURED-LOCATION;VALUE=URI;X-ADDRESS=Chatsworth Station 10040 Old Depot Plaza Road Chatsworth CA 91311 US;X-APPLE-RADIUS=500;X-TITLE=10040 Old Depot Plaza Road:geo:'-118.5994635,34.2530116
END:VEVENT
END:VCALENDAR